1.0000000000
0.0000000000
0.0000000000
-1.0000000000
510365.5000000000
4428078.5000000000
