1.0000000000
0.0000000000
0.0000000000
-1.0000000000
526370.5000000000
4428128.5000000000
