1.0000000000
0.0000000000
0.0000000000
-1.0000000000
531705.5000000000
4428152.5000000000
