1.0000000000
0.0000000000
0.0000000000
-1.0000000000
547710.5000000000
4428248.5000000000
