1.0000000000
0.0000000000
0.0000000000
-1.0000000000
542375.5000000000
4428212.5000000000
