1.0000000000
0.0000000000
0.0000000000
-1.0000000000
553045.5000000000
4428287.5000000000
