1.0000000000
0.0000000000
0.0000000000
-1.0000000000
574386.5000000000
4428482.5000000000
