1.0000000000
0.0000000000
0.0000000000
-1.0000000000
414257.5000000000
4428540.5000000000
