1.0000000000
0.0000000000
0.0000000000
-1.0000000000
430277.5000000000
4428377.5000000000
