1.0000000000
0.0000000000
0.0000000000
-1.0000000000
424937.5000000000
4428427.5000000000
