1.0000000000
0.0000000000
0.0000000000
-1.0000000000
440957.5000000000
4428287.5000000000
