1.0000000000
0.0000000000
0.0000000000
-1.0000000000
435617.5000000000
4428330.5000000000
