1.0000000000
0.0000000000
0.0000000000
-1.0000000000
451637.5000000000
4428212.5000000000
