1.0000000000
0.0000000000
0.0000000000
-1.0000000000
467656.5000000000
4428128.5000000000
