1.0000000000
0.0000000000
0.0000000000
-1.0000000000
494356.5000000000
4428063.5000000000
