1.0000000000
0.0000000000
0.0000000000
-1.0000000000
344835.5000000000
4429634.5000000000
