1.0000000000
0.0000000000
0.0000000000
-1.0000000000
339495.5000000000
4429744.5000000000
