1.0000000000
0.0000000000
0.0000000000
-1.0000000000
355516.5000000000
4429424.5000000000
