1.0000000000
0.0000000000
0.0000000000
-1.0000000000
350176.5000000000
4429527.5000000000
