1.0000000000
0.0000000000
0.0000000000
-1.0000000000
360856.5000000000
4429325.5000000000
