1.0000000000
0.0000000000
0.0000000000
-1.0000000000
371537.5000000000
4429138.5000000000
