1.0000000000
0.0000000000
0.0000000000
-1.0000000000
387557.5000000000
4428886.5000000000
