1.0000000000
0.0000000000
0.0000000000
-1.0000000000
382217.5000000000
4428966.5000000000
