1.0000000000
0.0000000000
0.0000000000
-1.0000000000
247136.5000000000
4543396.5000000000
