1.0000000000
0.0000000000
0.0000000000
-1.0000000000
251700.5000000000
4522400.5000000000
