1.0000000000
0.0000000000
0.0000000000
-1.0000000000
246423.5000000000
4522578.5000000000
