1.0000000000
0.0000000000
0.0000000000
-1.0000000000
257205.5000000000
4529164.5000000000
