1.0000000000
0.0000000000
0.0000000000
-1.0000000000
245949.5000000000
4508700.5000000000
