1.0000000000
0.0000000000
0.0000000000
-1.0000000000
261810.5000000000
4508176.5000000000
