1.0000000000
0.0000000000
0.0000000000
-1.0000000000
245476.5000000000
4494822.5000000000
