1.0000000000
0.0000000000
0.0000000000
-1.0000000000
256296.5000000000
4501408.5000000000
