1.0000000000
0.0000000000
0.0000000000
-1.0000000000
256069.5000000000
4494469.5000000000
