1.0000000000
0.0000000000
0.0000000000
-1.0000000000
250541.5000000000
4487704.5000000000
