1.0000000000
0.0000000000
0.0000000000
-1.0000000000
245240.5000000000
4487883.5000000000
