1.0000000000
0.0000000000
0.0000000000
-1.0000000000
255843.5000000000
4487530.5000000000
