1.0000000000
0.0000000000
0.0000000000
-1.0000000000
255617.5000000000
4480591.5000000000
