1.0000000000
0.0000000000
0.0000000000
-1.0000000000
271538.5000000000
4480090.5000000000
