1.0000000000
0.0000000000
0.0000000000
-1.0000000000
266231.5000000000
4480253.5000000000
