1.0000000000
0.0000000000
0.0000000000
-1.0000000000
250080.5000000000
4473827.5000000000
