1.0000000000
0.0000000000
0.0000000000
-1.0000000000
244768.5000000000
4474005.5000000000
