1.0000000000
0.0000000000
0.0000000000
-1.0000000000
249850.5000000000
4466888.5000000000
