1.0000000000
0.0000000000
0.0000000000
-1.0000000000
244533.5000000000
4467066.5000000000
