1.0000000000
0.0000000000
0.0000000000
-1.0000000000
260703.5000000000
4473481.5000000000
