1.0000000000
0.0000000000
0.0000000000
-1.0000000000
255392.5000000000
4473652.5000000000
