1.0000000000
0.0000000000
0.0000000000
-1.0000000000
255167.5000000000
4466713.5000000000
