1.0000000000
0.0000000000
0.0000000000
-1.0000000000
271327.5000000000
4473151.5000000000
