1.0000000000
0.0000000000
0.0000000000
-1.0000000000
271116.5000000000
4466213.5000000000
