1.0000000000
0.0000000000
0.0000000000
-1.0000000000
265800.5000000000
4466376.5000000000
