1.0000000000
0.0000000000
0.0000000000
-1.0000000000
276638.5000000000
4472992.5000000000
