1.0000000000
0.0000000000
0.0000000000
-1.0000000000
276433.5000000000
4466053.5000000000
